Workbook
Name _10t5_: #REF!
Name _15A: [1]금액내역서!$D$3:$D$10
Name _15A: [1]금액내역서!$D$3:$D$10
Name _15A: [1]금액내역서!$D$3:$D$10
Name _15A: [1]금액내역서!$D$3:$D$10
Name _15A: [2]금액내역서!$D$3:$D$10
Name _1a1_: #REF!
Name _2bv3_: BlankMacro1
Name _3bv3_: BlankMacro1
Name _4bv3_: BlankMacro1
Name _5bv3_: BlankMacro1
Name _6P1_: #REF!
Name _7P1_: #REF!
Name _8P2_: '[3]Sheet1 (2)'!#REF!
Name _9P2_: '[3]Sheet1 (2)'!#REF!
Name _A183154: #REF!
Name _A183154: #REF!
Name _A183154: #REF!
Name _A183154: #REF!
Name _A183154: #REF!
Name _ddd1: #REF!
Name _dia300: [4]대로근거!#REF!
Name _dia300: [4]대로근거!#REF!
Name _dia350: [4]대로근거!#REF!
Name _dia350: [4]대로근거!#REF!
Name _HSH1: #REF!
Name _HSH2: #REF!
Name _NP1: #REF!
Name _NP2: #REF!
Name _NSH1: #REF!
Name _NSH2: #REF!
Name _pl1: #REF!
Name _PL2: #REF!
Name _PL3: #REF!
Name _PSC19: #REF!
Name _RD1: #REF!
Name _RD2: #REF!
Name _RD3: #REF!
Name _RD4: #REF!
Name _RD5: [6]교각계산!$K$86
Name _RL1: #REF!
Name _RL2: #REF!
Name _RL3: #REF!
Name _RL4: #REF!
Name _SBB1: #REF!
Name _SBB2: #REF!
Name _SBB3: #REF!
Name _SBB4: #REF!
Name _SBB5: #REF!
Name _SHH1: #REF!
Name _SHH2: #REF!
Name _SHH3: #REF!
Name _TC1: #REF!
Name _TC2: #REF!
Name _TW1: #REF!
Name _TW1: #REF!
Name _TW2: #REF!
Name _TW2: #REF!
Name _WC1: #REF!
Name _XS1: #REF!

Sheet 원가계산서
A1: 원 가 계 산 서
A2: [물품명] 효평마루 생태놀이터 | G2: 단위 : 원
A3: 구 분 비 목 | E3: 금 액 | F3: 비율 (%) | G3: 비 고
A5: 재 료 비 | B5: 직접재료비 | G5: 내역서 참조
B6: 간접재료비
B7: 소 계
A8: 노 무 비 | B8: 직접노무비 | G8: 내역서 참조
B9: 간접노무비 | G9: ="직접노무비 × "&0&"%" -> 직접노무비 × 0%
B10: 소 계
A11: 경 비 | B11: 기계경비
B12: 연금보험료 | G12: ="노무비 × "&4.5&"%" -> 노무비 × 4.5%
B13: 건강보험료 | G13: ="노무비 × "&3.495&"%" -> 노무비 × 3.495%
B14: 노인장기요양보험료 | G14: ="건강보험료 × "&12.27&"%" -> 건강보험료 × 12.27%
B15: 산재보험료 | G15: ="노무비 × "&3.7&"%" -> 노무비 × 3.7%
B16: 고용보험료 | G16: ="노무비 × "&1.01&"%" -> 노무비 × 1.01%
B17: 퇴직공제부금비 | G17: 추정금액 1억원 미만
B18: 산업안전보건관리비 | G18: 공사금액 2천만원 미만
B19: 소 계
A20: 공사금액 | G20: 재료비 + 노무비
A21: 물품제조비
A22: 일반관리비 | G22: ="공사금액 × "&5&"%" -> 공사금액 × 5%
A23: 이 윤 | G23: ="(노무비+경비+일.관)×"&5&"%" -> (노무비+경비+일.관)×5%
A24: 총 원 가 | G24: 순설치원가 + 일.관 + 이윤
A25: 부가가치세 | G25: 총원가 × 10%
A26: 합 계 | G26: 부가가치세 포함 / 1원단위 절삭

Sheet 내역서
A2: 내 역 서
A4: 품 명 | B4: 규 격 | C4: 단위 | D4: 수량 | E4: 재료비 | G4: 노무비 | I4: 경비 | K4: 금액 | M4: 비 고
E5: 단 가 | F5: 금 액 | G5: 단 가 | H5: 금 액 | I5: 단 가 | J5: 금 액 | K5: 단 가 | L5: 금 액
A6: 순공사비 | C6: 식 | D6: 1
A7: 1. 조경시설물 설치비
A8: 트리하우스 조합놀이대 (브릿지 포함) | B8: 10,930*13,860*H4,300 | C8: EA | D8: 1
A9: 마운딩 놀이A | B9: 7,595*2,140*H1,680 | C9: EA | D9: 1
A10: 마운딩 놀이B | B10: 7,150*3,930*H1,705 | C10: EA | D10: 1
A11: 로비니아 벤치 | B11: 3,680*3,315*H360 | C11: SET | D11: 1
A12: 모래쉼터 | B12: 3,385*5,345*H3,910 | C12: EA | D12: 1
A13: 이야기공간 | B13: 1,205*1,205*H390 | C13: EA | D13: 1
A14: 버그하우스 | B14: 885*700*H1,610 | C14: SET | D14: 1
A15: 원주목 벤치 | B15: D180*H300 | C15: SET | D15: 2
A16: 모험놀이대 | B16: 7,205*1,635*H2,405 | C16: EA | D16: 1
A17: 숲 칠판 | B17: 1,495*100*H1,065 | C17: EA | D17: 1
A18: 관찰 놀이 테이블 | B18: 3,485*855*H810 | C18: EA | D18: 1
A19: 실로폰 건너기 | B19: 1,480*2,950*H1,440 | C19: EA | D19: 1

Sheet 일위대가_조경시설물
A2: 일위대가표
A4: 품 명 | B4: 규 격 | C4: 수량 | D4: 단위 | E4: 합 계 | G4: 재 료 비 | I4: 노 무 비 | K4: 경 비 | M4: 비 고
E5: 단 가 | F5: 금 액 | G5: 단 가 | H5: 금 액 | I5: 단 가 | J5: 금 액 | K5: 단 가 | L5: 금 액
A6: 제1호표
A7: 트리하우스 조합놀이대 (브릿지 포함) 설치 | B7: =단가조사표!B23 -> 10,930*13,860*H4,300 | C7: 1 | D7: 개소
A8: 터파기 | B8: 인력 | C8: =수량산출!N5 -> 0.768 | D8: M3 | K8: 0 | L8: =INT(C8*K8) -> 0 | M8: 1
A9: 잔토처리 | B9: 인력 | C9: =수량산출!N7 -> 0.432 | D9: M3 | K9: 0 | L9: =INT(C9*K9) -> 0 | M9: 2
A10: 되메우기 | B10: 인력 | C10: =수량산출!N9 -> 0.336 | D10: M3 | K10: 0 | L10: =INT(C10*K10) -> 0 | M10: 3
A11: 레 미 콘 | B11: 25-18-8 | C11: =수량산출!N10 -> 0.44064 | D11: M3 | K11: 0 | L11: =INT(C11*K11) -> 0 | M11: 단가조사표
A12: 레미콘타설 | B12: 소형구조물 | C12: =수량산출!N11 -> 0.432 | D12: M3 | K12: 0 | L12: =INT(C12*K12) -> 0 | M12: 4
A13: 거 푸 집 | B13: 합판 6회 | C13: =수량산출!N11 -> 0.432 | D13: M2 | K13: 0 | L13: =INT(C13*K13) -> 0 | M13: 5
A14: Set Anchor | B14: M16XL150 | C14: 144 | D14: EA | K14: 0 | L14: =INT(C14*K14) -> 0 | M14: 단가조사표
A15: 앙카볼트설치 | B15: 주요기둥용 | C15: =C14 -> 144 | D15: EA | K15: 0 | L15: =INT(C15*K15) -> 0 | M15: 7
A16: 트리하우스 조합놀이대 (브릿지 포함) 조립비 | B16: 트리하우스 조합놀이대 금액 x 1.5% | C16: 1 | D16: 개소 | K16: 0 | L16: =INT(C16*K16) -> 0
A17: 트리하우스 조합놀이대 (브릿지 포함) | B17: =B7 -> 10,930*13,860*H4,300 | C17: 1 | D17: 개소 | K17: 0 | L17: =INT(C17*K17) -> 0 | M17: 단가조사표
A18: 계 | L18: =SUM(L8:L17) -> 0 | P18: =H18-H17 -> 0
A20: 제2호표
A21: 마운딩 놀이A 설치 | B21: =단가조사표!B24 -> 7,595*2,140*H1,680 | C21: 1 | D21: 개소
A22: Set Anchor | B22: M16XL150 | C22: 32 | D22: EA | K22: 0 | L22: =INT(C22*K22) -> 0 | M22: 단가조사표
A23: 앙카볼트설치 | B23: 주요기둥용 | C23: =C22 -> 32 | D23: EA | K23: 0 | L23: =INT(C23*K23) -> 0 | M23: 7
A24: 마운딩 놀이A 조립비 | B24: 마운딩 놀이A x 1.5% | C24: 1 | D24: 개소 | K24: 0 | L24: =INT(C24*K24) -> 0
A25: 마운딩 놀이A | B25: =B21 -> 7,595*2,140*H1,680 | C25: 1 | D25: 개소 | K25: 0 | L25: =INT(C25*K25) -> 0 | M25: 단가조사표
A26: 계 | L26: =INT(C26*K26) -> 0 | P26: =H26-H25 -> 0
A28: 제3호표
A29: 마운딩 놀이B 설치 | B29: =단가조사표!B25 -> 7,150*3,930*H1,705 | C29: 1 | D29: 개소
A30: Set Anchor | B30: M16XL150 | C30: 78 | D30: EA | K30: 0 | L30: =INT(C30*K30) -> 0 | M30: 단가조사표
A31: 앙카볼트설치 | B31: 주요기둥용 | C31: =C30 -> 78 | D31: EA | K31: 0 | L31: =INT(C31*K31) -> 0 | M31: 7
A32: 마운딩 놀이B 조립비 | B32: 마운딩 놀이B x 1.5% | C32: 1 | D32: 개소 | K32: 0 | L32: =INT(C32*K32) -> 0
A33: 마운딩 놀이B | B33: =B29 -> 7,150*3,930*H1,705 | C33: 1 | D33: 개소 | K33: 0 | L33: =INT(C33*K33) -> 0 | M33: 단가조사표
A34: 계 | L34: =SUM(L30:L33) -> 0 | P34: =H34-H33 -> 0
A36: 제4호표
A37: 로비니아 벤치 설치 | B37: =단가조사표!B26 -> 3,680*3,315*H360 | C37: 1 | D37: 개소
A38: 터파기 | B38: 인력 | C38: =수량산출!N22 -> 0.432 | D38: M3 | K38: 0 | L38: =INT(C38*K38) -> 0 | M38: 1
A39: 잔토처리 | B39: 인력 | C39: =수량산출!N24 -> 0.243 | D39: M3 | K39: 0 | L39: =INT(C39*K39) -> 0 | M39: 2
A40: 되메우기 | B40: 인력 | C40: =수량산출!N26 -> 0.189 | D40: M3 | K40: 0 | L40: =INT(C40*K40) -> 0 | M40: 3
A41: 레 미 콘 | B41: 25-18-8 | C41: =수량산출!N27 -> 0.24786 | D41: M3 | K41: 0 | L41: =INT(C41*K41) -> 0 | M41: 단가조사표
A42: 레미콘타설 | B42: 소형구조물 | C42: =수량산출!N28 -> 0.243 | D42: M3 | K42: 0 | L42: =INT(C42*K42) -> 0 | M42: 4
A43: 거 푸 집 | B43: 합판 6회 | C43: =수량산출!N30 -> 3.24 | D43: M2 | K43: 0 | L43: =INT(C43*K43) -> 0 | M43: 5
A44: 로비니아 벤치 조립비 | B44: 로비니아 벤치 금액 x 1.5% | C44: 1 | D44: 개소 | K44: 0 | L44: =INT(C44*K44) -> 0
A45: 로비니아 벤치 | B45: =B37 -> 3,680*3,315*H360 | C45: 1 | D45: 개소 | K45: 0 | L45: =INT(C45*K45) -> 0 | M45: 단가조사표
A46: 계 | L46: =SUM(L38:L45) -> 0 | P46: =H46-H45 -> 0
A48: 제5호표
A49: 모래쉼터 설치 | B49: =단가조사표!B27 -> 3,385*5,345*H3,910 | C49: 1 | D49: 개소
A50: 터파기 | B50: 인력 | C50: =수량산출!N35 -> 1.152 | D50: M3 | K50: 0 | L50: =INT(C50*K50) -> 0 | M50: 1
A51: 잔토처리 | B51: 인력 | C51: =수량산출!N37 -> 0.648 | D51: M3 | K51: 0 | L51: =INT(C51*K51) -> 0 | M51: 2
A52: 되메우기 | B52: 인력 | C52: =수량산출!N39 -> 0.504 | D52: M3 | K52: 0 | L52: =INT(C52*K52) -> 0 | M52: 3
A53: 레 미 콘 | B53: 25-18-8 | C53: =수량산출!N40 -> 0.66096 | D53: M3 | K53: 0 | L53: =INT(C53*K53) -> 0 | M53: 단가조사표
A54: 레미콘타설 | B54: 소형구조물 | C54: =수량산출!N41 -> 0.648 | D54: M3 | K54: 0 | L54: =INT(C54*K54) -> 0 | M54: 4
A55: 거 푸 집 | B55: 합판 6회 | C55: =수량산출!N43 -> 8.64 | D55: M2 | K55: 0 | L55: =INT(C55*K55) -> 0 | M55: 5
A56: Set Anchor | B56: M16XL150 | C56: 12 | D56: EA | K56: 0 | L56: =INT(C56*K56) -> 0 | M56: 단가조사표
A57: 앙카볼트설치 | B57: 주요기둥용 | C57: =C56 -> 12 | D57: EA | K57: 0 | L57: =INT(C57*K57) -> 0 | M57: 7
A58: 모래쉼터 조립비 | B58: 모래쉼터 금액 x 1.5% | C58: 1 | D58: 개소 | K58: 0 | L58: =INT(C58*K58) -> 0
A59: 모래쉼터 | B59: =B49 -> 3,385*5,345*H3,910 | C59: 1 | D59: 개소 | K59: 0 | L59: =INT(C59*K59) -> 0 | M59: 단가조사표
A60: 계 | L60: =SUM(L50:L59) -> 0 | P60: =H60-H59 -> 0
A62: 제6호표
A63: 이야기공간 설치 | B63: =단가조사표!B28 -> 1,205*1,205*H390 | C63: 1 | D63: 개소
A64: Set Anchor | B64: M16XL150 | C64: 24 | D64: EA | K64: 0 | L64: =INT(C64*K64) -> 0 | M64: 단가조사표
A65: 앙카볼트설치 | B65: 주요기둥용 | C65: =C64 -> 24 | D65: EA | K65: 0 | L65: =INT(C65*K65) -> 0 | M65: 7
A66: 이야기공간 조립비 | B66: 이야기공간 x 1.5% | C66: 1 | D66: 개소 | K66: 0 | L66: =INT(C66*K66) -> 0
A67: 이야기공간 | B67: =B63 -> 1,205*1,205*H390 | C67: 1 | D67: 개소 | K67: 0 | L67: =INT(C67*K67) -> 0 | M67: 단가조사표
A68: 계 | L68: =SUM(L64:L67) -> 0 | P68: =H68-H67 -> 0
A70: 제7호표
A71: 버그하우스 설치 | B71: =단가조사표!B29 -> 885*700*H1,610 | C71: 1 | D71: 개소
A72: 터파기 | B72: 인력 | C72: =수량산출!N50 -> 0.081 | D72: M3 | K72: 0 | L72: =INT(C72*K72) -> 0 | M72: 1
A73: 잔토처리 | B73: 인력 | C73: =수량산출!N52 -> 0.036 | D73: M3 | K73: 0 | L73: =INT(C73*K73) -> 0 | M73: 2
A74: 되메우기 | B74: 인력 | C74: =수량산출!N54 -> 0.045 | D74: M3 | K74: 0 | L74: =INT(C74*K74) -> 0 | M74: 3
A75: 레 미 콘 | B75: 25-18-8 | C75: =수량산출!N55 -> 0.03672 | D75: M3 | K75: 0 | L75: =INT(C75*K75) -> 0 | M75: 단가조사표
A76: 레미콘타설 | B76: 소형구조물 | C76: =수량산출!N56 -> 0.036 | D76: M3 | K76: 0 | L76: =INT(C76*K76) -> 0 | M76: 4
A77: 거 푸 집 | B77: 합판 6회 | C77: =수량산출!N58 -> 0.72 | D77: M2 | K77: 0 | L77: =INT(C77*K77) -> 0 | M77: 5
A78: Set Anchor | B78: M16XL150 | C78: 12 | D78: EA | K78: 0 | L78: =INT(C78*K78) -> 0 | M78: 단가조사표
A79: 앙카볼트설치 | B79: 주요기둥용 | C79: =C78 -> 12 | D79: EA | K79: 0 | L79: =INT(C79*K79) -> 0 | M79: 7
A80: 버그하우스 조립비 | B80: 버그하우스 금액 x 1.5% | C80: 1 | D80: 개소 | K80: 0 | L80: =INT(C80*K80) -> 0
A81: 버그하우스 | B81: =B71 -> 885*700*H1,610 | C81: 1 | D81: 개소 | K81: 0 | L81: =INT(C81*K81) -> 0 | M81: 단가조사표
A82: 계 | L82: =SUM(L72:L81) -> 0 | P82: =H82-H81 -> 0
A84: 제8호표
A85: 원주목 벤치 설치 | B85: =단가조사표!B30 -> D180*H300 | C85: 1 | D85: 개소
A86: 터파기 | B86: 인력 | C86: =수량산출!N63 -> 0.012 | D86: M3 | K86: 0 | L86: =INT(C86*K86) -> 0 | M86: 1
A87: 잔토처리 | B87: 인력 | C87: =수량산출!N65 -> 0.003 | D87: M3 | K87: 0 | L87: =INT(C87*K87) -> 0 | M87: 2
A88: 되메우기 | B88: 인력 | C88: =수량산출!N67 -> 0.009 | D88: M3 | K88: 0 | L88: =INT(C88*K88) -> 0 | M88: 3
A89: 레 미 콘 | B89: 25-18-8 | C89: =수량산출!N68 -> 0.00306 | D89: M3 | K89: 0 | L89: =INT(C89*K89) -> 0 | M89: 단가조사표
A90: 레미콘타설 | B90: 소형구조물 | C90: =수량산출!N69 -> 0.003 | D90: M3 | K90: 0 | L90: =INT(C90*K90) -> 0 | M90: 4
A91: 거 푸 집 | B91: 합판 6회 | C91: =수량산출!N71 -> 0.12 | D91: M2 | K91: 0 | L91: =INT(C91*K91) -> 0 | M91: 5
A92: 원주목 벤치 조립비 | B92: 원주목 벤치 금액 x 1.5% | C92: 1 | D92: 개소 | K92: 0 | L92: =INT(C92*K92) -> 0
A93: 원주목 벤치 | B93: =B85 -> D180*H300 | C93: 1 | D93: 개소 | K93: 0 | L93: =INT(C93*K93) -> 0 | M93: 단가조사표
A94: 계 | L94: =SUM(L86:L93) -> 0 | P94: =H94-H93 -> 0
A96: 제9호표
A97: 모험놀이대 설치 | B97: =단가조사표!B31 -> 7,205*1,635*H2,405 | C97: 1 | D97: 개소
A98: 터파기 | B98: 인력 | C98: =수량산출!N76 -> 0.432 | D98: M3 | K98: 0 | L98: =INT(C98*K98) -> 0 | M98: 1
A99: 잔토처리 | B99: 인력 | C99: =수량산출!N78 -> 0.243 | D99: M3 | K99: 0 | L99: =INT(C99*K99) -> 0 | M99: 2
A100: 되메우기 | B100: 인력 | C100: =수량산출!N80 -> 0.189 | D100: M3 | K100: 0 | L100: =INT(C100*K100) -> 0 | M100: 3
A101: 레 미 콘 | B101: 25-18-8 | C101: =수량산출!N81 -> 0.24786 | D101: M3 | K101: 0 | L101: =INT(C101*K101) -> 0 | M101: 단가조사표
A102: 레미콘타설 | B102: 소형구조물 | C102: =수량산출!N82 -> 0.243 | D102: M3 | K102: 0 | L102: =INT(C102*K102) -> 0 | M102: 4
A103: 거 푸 집 | B103: 합판 6회 | C103: =수량산출!N84 -> 3.24 | D103: M2 | K103: 0 | L103: =INT(C103*K103) -> 0 | M103: 5
A104: 모험놀이대 조립비 | B104: 모험놀이대 금액 x 1.5% | C104: 1 | D104: 개소 | K104: 0 | L104: =INT(C104*K104) -> 0
A105: 모험놀이대 | B105: =B97 -> 7,205*1,635*H2,405 | C105: 1 | D105: 개소 | K105: 0 | L105: =INT(C105*K105) -> 0 | M105: 단가조사표
A106: 계 | L106: =SUM(L98:L105) -> 0 | P106: =H106-H105 -> 0
A108: 제10호표
A109: 숲 칠판 설치 | B109: =단가조사표!B32 -> 1,495*100*H1,065 | C109: 1 | D109: 개소
A110: 터파기 | B110: 인력 | C110: =수량산출!N89 -> 0.054 | D110: M3 | K110: 0 | L110: =INT(C110*K110) -> 0 | M110: 1
A111: 잔토처리 | B111: 인력 | C111: =수량산출!N91 -> 0.024 | D111: M3 | K111: 0 | L111: =INT(C111*K111) -> 0 | M111: 2
...

Sheet 수량산출
A1: 기 초 수 량 산 출 표
A2: 공 종 | D2: 산 출 근 거 | N2: 수 량 | O2: 단위 | P2: 비고
A3: ■ | B3: 트리하우스 조합놀이대 (브릿지 포함) | C3: 10,930*13,860*H4,300 | D3: -개소 당-
C5: 터파기 | L5: = | N5: =SUM(N6:N6) -> 0.768 | O5: M3
C6: 400x400xH600 | D6: 0.4 | E6: X | F6: 0.4 | G6: X | H6: 0.6 | I6: X | J6: 8 | K6: EA | L6: = | N6: =D6*F6*H6*J6 -> 0.768 | O6: M3 | Q6: 로비니아 건너기 8EA분
C7: 잔토처리 | L7: = | N7: =SUM(N8:N8) -> 0.432 | O7: M3
C8: =C6 -> 400x400xH600 | D8: =D6-0.1 -> 0.3 | E8: X | F8: =F6-0.1 -> 0.3 | G8: X | H8: =H6 -> 0.6 | I8: X | J8: =J6 -> 8 | K8: EA | L8: = | N8: =D8*F8*H8*J8 -> 0.432 | O8: M3
C9: 되메우기 | D9: 터파기 - 잔토처리 | L9: = | N9: =N5-N7 -> 0.336 | O9: M3
C10: 레미콘 | D10: =N11 -> 0.432 | E10: X | F10: 1.02 | G10: (할증) | N10: =SUM(D10*F10) -> 0.44064 | O10: M3
C11: 레미콘타설 | L11: = | N11: =SUM(N12:N12) -> 0.432 | O11: M3
C12: =C8 -> 400x400xH600 | D12: =D8 -> 0.3 | E12: X | F12: =F8 -> 0.3 | G12: X | H12: =H8 -> 0.6 | I12: X | J12: =J8 -> 8 | K12: EA | L12: = | N12: =D12*F12*H12*J12 -> 0.432 | O12: M3
C13: 거푸집 | L13: = | N13: =SUM(N14:N14) -> 5.76 | O13: M2
C14: =C12 -> 400x400xH600 | D14: =D12 -> 0.3 | E14: X | F14: =H12 -> 0.6 | G14: X | H14: 4 | I14: X | J14: =J12 -> 8 | K14: EA | L14: = | N14: =D14*F14*H14*J14 -> 5.76 | O14: M2
A16: ■ | B16: 마운딩 놀이A | C16: 7,595*2,140*H1,680 | D16: -개소 당-
A18: ■ | B18: 마운딩 놀이B | C18: 7,150*3,930*H1,705 | D18: -개소 당-
A20: ■ | B20: 로비니아 벤치 | C20: 3,680*3,315*H360 | D20: -개소 당-
C22: 터파기 | L22: = | N22: =SUM(N23:N23) -> 0.432 | O22: M3
C23: 400x400xH300 | D23: 0.4 | E23: X | F23: 0.4 | G23: X | H23: 0.3 | I23: X | J23: 9 | K23: EA | L23: = | N23: =D23*F23*H23*J23 -> 0.432 | O23: M3
C24: 잔토처리 | L24: = | N24: =SUM(N25:N25) -> 0.243 | O24: M3
C25: =C23 -> 400x400xH300 | D25: =D23-0.1 -> 0.3 | E25: X | F25: =F23-0.1 -> 0.3 | G25: X | H25: =H23 -> 0.3 | I25: X | J25: =J23 -> 9 | K25: EA | L25: = | N25: =D25*F25*H25*J25 -> 0.243 | O25: M3
C26: 되메우기 | D26: 터파기 - 잔토처리 | L26: = | N26: =N22-N24 -> 0.189 | O26: M3
C27: 레미콘 | D27: =N28 -> 0.243 | E27: X | F27: 1.02 | G27: (할증) | N27: =SUM(D27*F27) -> 0.24786 | O27: M3
C28: 레미콘타설 | L28: = | N28: =SUM(N29:N29) -> 0.243 | O28: M3
C29: =C25 -> 400x400xH300 | D29: =D25 -> 0.3 | E29: X | F29: =F25 -> 0.3 | G29: X | H29: =H25 -> 0.3 | I29: X | J29: =J25 -> 9 | K29: EA | L29: = | N29: =D29*F29*H29*J29 -> 0.243 | O29: M3
C30: 거푸집 | L30: = | N30: =SUM(N31:N31) -> 3.24 | O30: M2
C31: =C29 -> 400x400xH300 | D31: =D29 -> 0.3 | E31: X | F31: =H29 -> 0.3 | G31: X | H31: 4 | I31: X | J31: =J29 -> 9 | K31: EA | L31: = | N31: =D31*F31*H31*J31 -> 3.24 | O31: M2
A33: ■ | B33: 모래쉼터 | C33: 3,385*5,345*H3,910 | D33: -개소 당-
C35: 터파기 | L35: = | N35: =SUM(N36:N36) -> 1.152 | O35: M3
C36: 400x400xH800 | D36: 0.4 | E36: X | F36: 0.4 | G36: X | H36: 0.8 | I36: X | J36: 9 | K36: EA | L36: = | N36: =D36*F36*H36*J36 -> 1.152 | O36: M3
C37: 잔토처리 | L37: = | N37: =SUM(N38:N38) -> 0.648 | O37: M3
C38: =C36 -> 400x400xH800 | D38: =D36-0.1 -> 0.3 | E38: X | F38: =F36-0.1 -> 0.3 | G38: X | H38: =H36 -> 0.8 | I38: X | J38: =J36 -> 9 | K38: EA | L38: = | N38: =D38*F38*H38*J38 -> 0.648 | O38: M3
C39: 되메우기 | D39: 터파기 - 잔토처리 | L39: = | N39: =N35-N37 -> 0.504 | O39: M3
C40: 레미콘 | D40: =N41 -> 0.648 | E40: X | F40: 1.02 | G40: (할증) | N40: =SUM(D40*F40) -> 0.66096 | O40: M3
C41: 레미콘타설 | L41: = | N41: =SUM(N42:N42) -> 0.648 | O41: M3
C42: =C38 -> 400x400xH800 | D42: =D38 -> 0.3 | E42: X | F42: =F38 -> 0.3 | G42: X | H42: =H38 -> 0.8 | I42: X | J42: =J38 -> 9 | K42: EA | L42: = | N42: =D42*F42*H42*J42 -> 0.648 | O42: M3
C43: 거푸집 | L43: = | N43: =SUM(N44:N44) -> 8.64 | O43: M2
C44: =C42 -> 400x400xH800 | D44: =D42 -> 0.3 | E44: X | F44: =H42 -> 0.8 | G44: X | H44: 4 | I44: X | J44: =J42 -> 9 | K44: EA | L44: = | N44: =D44*F44*H44*J44 -> 8.64 | O44: M2
A46: ■ | B46: 이야기공간 | C46: 1,205*1,205*H390 | D46: -개소 당-
A48: ■ | B48: 버그하우스 | C48: 885*700*H1,610 | D48: -개소 당-
C50: 터파기 | L50: = | N50: =SUM(N51:N51) -> 0.081 | O50: M3
C51: 300x300xH300 | D51: 0.3 | E51: X | F51: 0.3 | G51: X | H51: 0.3 | I51: X | J51: 3 | K51: EA | L51: = | N51: =D51*F51*H51*J51 -> 0.081 | O51: M3
C52: 잔토처리 | L52: = | N52: =SUM(N53:N53) -> 0.036 | O52: M3
C53: =C51 -> 300x300xH300 | D53: =D51-0.1 -> 0.2 | E53: X | F53: =F51-0.1 -> 0.2 | G53: X | H53: =H51 -> 0.3 | I53: X | J53: =J51 -> 3 | K53: EA | L53: = | N53: =D53*F53*H53*J53 -> 0.036 | O53: M3
C54: 되메우기 | D54: 터파기 - 잔토처리 | L54: = | N54: =N50-N52 -> 0.045 | O54: M3
C55: 레미콘 | D55: =N56 -> 0.036 | E55: X | F55: 1.02 | G55: (할증) | N55: =SUM(D55*F55) -> 0.03672 | O55: M3
C56: 레미콘타설 | L56: = | N56: =SUM(N57:N57) -> 0.036 | O56: M3
C57: =C53 -> 300x300xH300 | D57: =D53 -> 0.2 | E57: X | F57: =F53 -> 0.2 | G57: X | H57: =H53 -> 0.3 | I57: X | J57: =J53 -> 3 | K57: EA | L57: = | N57: =D57*F57*H57*J57 -> 0.036 | O57: M3
C58: 거푸집 | L58: = | N58: =SUM(N59:N59) -> 0.72 | O58: M2
C59: =C57 -> 300x300xH300 | D59: =D57 -> 0.2 | E59: X | F59: =H57 -> 0.3 | G59: X | H59: 4 | I59: X | J59: =J57 -> 3 | K59: EA | L59: = | N59: =D59*F59*H59*J59 -> 0.72 | O59: M2
A61: ■ | B61: 원주목 벤치 | C61: D180*H300 | D61: -개소 당-
C63: 터파기 | L63: = | N63: =SUM(N64:N64) -> 0.012 | O63: M3
C64: 200x200xH300 | D64: 0.2 | E64: X | F64: 0.2 | G64: X | H64: 0.3 | I64: X | J64: 1 | K64: EA | L64: = | N64: =D64*F64*H64*J64 -> 0.012 | O64: M3
C65: 잔토처리 | L65: = | N65: =SUM(N66:N66) -> 0.003 | O65: M3
C66: =C64 -> 200x200xH300 | D66: =D64-0.1 -> 0.1 | E66: X | F66: =F64-0.1 -> 0.1 | G66: X | H66: =H64 -> 0.3 | I66: X | J66: =J64 -> 1 | K66: EA | L66: = | N66: =D66*F66*H66*J66 -> 0.003 | O66: M3
C67: 되메우기 | D67: 터파기 - 잔토처리 | L67: = | N67: =N63-N65 -> 0.009 | O67: M3
C68: 레미콘 | D68: =N69 -> 0.003 | E68: X | F68: 1.02 | G68: (할증) | N68: =SUM(D68*F68) -> 0.00306 | O68: M3
C69: 레미콘타설 | L69: = | N69: =SUM(N70:N70) -> 0.003 | O69: M3
C70: =C66 -> 200x200xH300 | D70: =D66 -> 0.1 | E70: X | F70: =F66 -> 0.1 | G70: X | H70: =H66 -> 0.3 | I70: X | J70: =J66 -> 1 | K70: EA | L70: = | N70: =D70*F70*H70*J70 -> 0.003 | O70: M3
C71: 거푸집 | L71: = | N71: =SUM(N72:N72) -> 0.12 | O71: M2
C72: =C70 -> 200x200xH300 | D72: =D70 -> 0.1 | E72: X | F72: =H70 -> 0.3 | G72: X | H72: 4 | I72: X | J72: =J70 -> 1 | K72: EA | L72: = | N72: =D72*F72*H72*J72 -> 0.12 | O72: M2
A74: ■ | B74: 모험놀이대 | C74: 7,205*1,635*H2,405 | D74: -개소 당-
C76: 터파기 | L76: = | N76: =SUM(N77:N77) -> 0.432 | O76: M3
C77: 400x400xH300 | D77: 0.4 | E77: X | F77: 0.4 | G77: X | H77: 0.3 | I77: X | J77: 9 | K77: EA | L77: = | N77: =D77*F77*H77*J77 -> 0.432 | O77: M3
C78: 잔토처리 | L78: = | N78: =SUM(N79:N79) -> 0.243 | O78: M3
C79: =C77 -> 400x400xH300 | D79: =D77-0.1 -> 0.3 | E79: X | F79: =F77-0.1 -> 0.3 | G79: X | H79: =H77 -> 0.3 | I79: X | J79: =J77 -> 9 | K79: EA | L79: = | N79: =D79*F79*H79*J79 -> 0.243 | O79: M3
C80: 되메우기 | D80: 터파기 - 잔토처리 | L80: = | N80: =N76-N78 -> 0.189 | O80: M3
C81: 레미콘 | D81: =N82 -> 0.243 | E81: X | F81: 1.02 | G81: (할증) | N81: =SUM(D81*F81) -> 0.24786 | O81: M3
C82: 레미콘타설 | L82: = | N82: =SUM(N83:N83) -> 0.243 | O82: M3
C83: =C79 -> 400x400xH300 | D83: =D79 -> 0.3 | E83: X | F83: =F79 -> 0.3 | G83: X | H83: =H79 -> 0.3 | I83: X | J83: =J79 -> 9 | K83: EA | L83: = | N83: =D83*F83*H83*J83 -> 0.243 | O83: M3
C84: 거푸집 | L84: = | N84: =SUM(N85:N85) -> 3.24 | O84: M2
C85: =C83 -> 400x400xH300 | D85: =D83 -> 0.3 | E85: X | F85: =H83 -> 0.3 | G85: X | H85: 4 | I85: X | J85: =J83 -> 9 | K85: EA | L85: = | N85: =D85*F85*H85*J85 -> 3.24 | O85: M2
A87: ■ | B87: 숲 칠판 | C87: 1,495*100*H1,065 | D87: -개소 당-
C89: 터파기 | L89: = | N89: =SUM(N90:N90) -> 0.054 | O89: M3
C90: 300x300xH300 | D90: 0.3 | E90: X | F90: 0.3 | G90: X | H90: 0.3 | I90: X | J90: 2 | K90: EA | L90: = | N90: =D90*F90*H90*J90 -> 0.054 | O90: M3
C91: 잔토처리 | L91: = | N91: =SUM(N92:N92) -> 0.024 | O91: M3
C92: =C90 -> 300x300xH300 | D92: =D90-0.1 -> 0.2 | E92: X | F92: =F90-0.1 -> 0.2 | G92: X | H92: =H90 -> 0.3 | I92: X | J92: =J90 -> 2 | K92: EA | L92: = | N92: =D92*F92*H92*J92 -> 0.024 | O92: M3
C93: 되메우기 | D93: 터파기 - 잔토처리 | L93: = | N93: =N89-N91 -> 0.03 | O93: M3
C94: 레미콘 | D94: =N95 -> 0.024 | E94: X | F94: 1.02 | G94: (할증) | N94: =SUM(D94*F94) -> 0.02448 | O94: M3
C95: 레미콘타설 | L95: = | N95: =SUM(N96:N96) -> 0.024 | O95: M3
C96: =C92 -> 300x300xH300 | D96: =D92 -> 0.2 | E96: X | F96: =F92 -> 0.2 | G96: X | H96: =H92 -> 0.3 | I96: X | J96: =J92 -> 2 | K96: EA | L96: = | N96: =D96*F96*H96*J96 -> 0.024 | O96: M3
C97: 거푸집 | L97: = | N97: =SUM(N98:N98) -> 0.48 | O97: M2
C98: =C96 -> 300x300xH300 | D98: =D96 -> 0.2 | E98: X | F98: =H96 -> 0.3 | G98: X | H98: 4 | I98: X | J98: =J96 -> 2 | K98: EA | L98: = | N98: =D98*F98*H98*J98 -> 0.48 | O98: M2
A100: ■ | B100: 관찰 놀이 테이블 | C100: 3,485*855*H810 | D100: -개소 당-
C102: 터파기 | L102: = | N102: =SUM(N103:N103) -> 0.048 | O102: M3
C103: 200x200xH200 | D103: 0.2 | E103: X | F103: 0.2 | G103: X | H103: 0.2 | I103: X | J103: 6 | K103: EA | L103: = | N103: =D103*F103*H103*J103 -> 0.048 | O103: M3
C104: 잔토처리 | L104: = | N104: =SUM(N105:N105) -> 0.012 | O104: M3
C105: =C103 -> 200x200xH200 | D105: =D103-0.1 -> 0.1 | E105: X | F105: =F103-0.1 -> 0.1 | G105: X | H105: =H103 -> 0.2 | I105: X | J105: =J103 -> 6 | K105: EA | L105: = | N105: =D105*F105*H105*J105 -> 0.012 | O105: M3
C106: 되메우기 | D106: 터파기 - 잔토처리 | L106: = | N106: =N102-N104 -> 0.036 | O106: M3
C107: 레미콘 | D107: =N108 -> 0.012 | E107: X | F107: 1.02 | G107: (할증) | N107: =SUM(D107*F107) -> 0.01224 | O107: M3
C108: 레미콘타설 | L108: = | N108: =SUM(N109:N109) -> 0.012 | O108: M3
C109: =C105 -> 200x200xH200 | D109: =D105 -> 0.1 | E109: X | F109: =F105 -> 0.1 | G109: X | H109: =H105 -> 0.2 | I109: X | J109: =J105 -> 6 | K109: EA | L109: = | N109: =D109*F109*H109*J109 -> 0.012 | O109: M3
C110: 거푸집 | L110: = | N110: =SUM(N111:N111) -> 0.48 | O110: M2
C111: =C109 -> 200x200xH200 | D111: =D109 -> 0.1 | E111: X | F111: =H109 -> 0.2 | G111: X | H111: 4 | I111: X | J111: =J109 -> 6 | K111: EA | L111: = | N111: =D111*F111*H111*J111 -> 0.48 | O111: M2
A113: ■ | B113: 실로폰 건너기 | C113: 1,480*2,950*H1,440 | D113: -개소 당-

Sheet 기초대가
A2: 기초대가
A4: 품 명 | B4: 규 격 | C4: 수 량 | D4: 단위 | E4: 합 계 | G4: 재 료 비 | I4: 노 무 비 | K4: 경 비 | M4: 비고
E5: 단 가 | F5: 금 액 | G5: 단 가 | H5: 금 액 | I5: 단 가 | J5: 금 액 | K5: 단 가 | L5: 금 액
A6: 1 | B6: 터파기 (인력) | C6: 1 | D6: M3
A7: 보통인부 | C7: 0.32 | D7: 인 | L7: =INT(K7*C7) -> 0
A8: 계 | L8: =SUM(L7) -> 0
A10: 2 | B10: 잔토처리 (인력) | C10: 1 | D10: M3
A11: 보통인부 | C11: 0.2 | D11: 인 | L11: =INT(K11*C11) -> 0
A12: 계 | L12: =SUM(L11) -> 0
A14: 3 | B14: 되메우기 (인력) | C14: 1 | D14: M3
A15: 보통인부 | C15: 0.1 | D15: 인 | L15: =INT(K15*C15) -> 0
A16: 계 | L16: =SUM(L15) -> 0
A18: 4 | B18: 레미콘타설 (소형구조물) | C18: 1 | D18: M3
A19: 콘크리트공 | C19: 0.24 | D19: 인 | L19: =INT(K19*C19) -> 0
A20: 보통인부 | C20: 0.3 | D20: 인 | L20: =INT(K20*C20) -> 0
A21: 계 | L21: =SUM(L19:L20) -> 0
A23: 5 | B23: 합판거푸집 (6회) | C23: 1 | D23: M2
A24: 재료비 | B24: 1회사용의 | C24: 34.7 | D24: % | L24: =INT(K24*C24) -> 0
A25: 노무비 | B25: 1회사용의 | C25: 32 | D25: % | L25: =INT(K25*C25) -> 0
A26: 계 | L26: =SUM(L24:L25) -> 0
A28: 6 | B28: 앵커볼트설치(샛기둥및경미한것) | C28: 1 | D28: 개소
A29: 철골공 | C29: 0.08 | D29: 인 | L29: =INT(K29*C29) -> 0
A30: 계 | L30: =SUM(L29:L29) -> 0
A32: 7 | B32: 앵커볼트설치(주요기둥) | C32: 1 | D32: 개소
A33: 철골공 | C33: 0.12 | D33: 인 | L33: =INT(K33*C33) -> 0
A34: 계 | L34: =SUM(L33:L33) -> 0
A36: 8 | B36: 합판거푸집 (1회) | C36: 1 | D36: M2
A37: 내수합판 | B37: 12X1220X2440㎜ | C37: 0.7931 | D37: M2 | L37: =INT(K37*C37) -> 0
A38: 미송각재 | B38: 3.6x3.6x360cm | C38: 0.02926 | D38: M3 | L38: =INT(K38*C38) -> 0
A39: 보통철선 | B39: #8,4.0MM 10.1m/KG | C39: 0.29 | D39: KG | L39: =INT(K39*C39) -> 0
A40: 철못 | B40: N75 25kg/상자 | C40: 0.2 | D40: KG | L40: =INT(K40*C40) -> 0
A41: 박리제 | B41: 목재용 | C41: 0.19 | D41: L | L41: =INT(K41*C41) -> 0
A42: 형틀목공 | C42: 0.22 | D42: 인 | L42: =INT(K42*C42) -> 0
A43: 보통인부 | C43: 0.12 | D43: 인 | L43: =INT(K43*C43) -> 0
A44: 계 | L44: =SUM(L37:L43) -> 0
A46: 9 | B46: 굴삭기(무한궤도) | C46: 1 | D46: hr
A47: 굴삭기 | B47: 0.7M3 | C47: 0.0002085 | D47: 대 | K47: =단가조사표!L20 -> 0 | L47: =INT(C47*K47) -> 0
A48: 경유 | B48: 저유황의 0.001% | C48: 11.6 | D48: L | K48: 0 | L48: =INT(C48*K48) -> 0
A49: 잡재료비 | B49: 주연료비의 22% | C49: 1 | D49: 식 | L49: =INT(C49*K49) -> 0
A50: 건설기계운전사 | C50: 0.20833 | D50: 인 | L50: =INT(C50*K50) -> 0
A51: 계 | L51: =SUM(L47:L50) -> 0
A53: 10 | B53: 화강석기계놓기(20TON미만) | C53: 1 | D53: TON
A54: 굴삭기 | B54: 0.7M3 | C54: 0.657 | D54: HR | K54: =L51 -> 0 | L54: =INT(C54*K54) -> 0
A55: 공구손료 | B55: 노무비의 3% | C55: 1 | D55: 식 | L55: =INT(C55*K55) -> 0
A56: 조경공 | C56: 0.968 | D56: 인
A57: 계 | L57: =SUM(L54:L56) -> 0
A59: 11 | B59: 잡석다짐 | C59: 1 | D59: M3
A60: 쇄석자갈 | B60: #467 | C60: 1.04 | D60: M3
A61: 보통인부 | C61: 0.51 | D61: 인 | L61: =INT(C61*K61) -> 0
A62: 작업반장 | C62: 0.42 | D62: 인 | L62: =INT(C62*K62) -> 0
A63: 계 | L63: =SUM(L60:L62) -> 0
A65: 12 | B65: 석재판 붙임(바닥) | C65: 1 | D65: M2
A66: 화강판석붙임 | B66: 석공 | C66: 0.4 | D66: 인
A67: 화강판석붙임 | B67: 보통인부 | C67: 0.2 | D67: 인
A68: 모르터 | C68: 0.045 | D68: M3 | L68: =INT(C68*K68) -> 0
A69: 계 | L69: =SUM(L66:L68) -> 0
A71: 13 | B71: 모르터(1:3) | C71: 1 | D71: M3
A72: 시멘트 | B72: 보통시멘트 | C72: 510 | D72: KG
A73: 모래 | B73: 강모래 | C73: 1.1 | D73: KG | L73: =INT(C73*K73) -> 0
A74: 보통인부 | C74: 0.66 | D74: 인
A75: 계 | K75: =SUM(K72:K74) -> 0 | L75: =SUM(L72:L74) -> 0

Sheet 단가조사표
A2: 단가조사표
D4: 가 격 | L4: 적용단가 | M4: 비 고
A5: 품 명 | B5: 규 격 | C5: 단위 | D5: 거래가격(2022.07) | F5: 물가정보 | H5: 조달청 나라장터 | J5: 견적
D6: 금 액 | E6: PAGE | F6: 금 액 | G6: PAGE | H6: 금 액 | I6: PAGE | J6: 금 액 | K6: PAGE
A7: 레미콘 | B7: 25-18-8 | C7: M3
A8: 쇄석자갈 | B8: #57 | C8: M3
A9: 미송각재 | B9: 30X30X3600mm | C9: M3
A10: 보통철선 | B10: #8, 4.0MM 10.1m/KG | C10: Kg
A11: 철 못 | B11: N75 15kg/상자 | C11: Kg
A12: 박리제 | B12: 목재용 | C12: ℓ
A13: 내수합판 | B13: 12X1220X2440㎜ | C13: M2
A14: 시멘트 | B14: 보통시멘트/(40kg/포) | C14: Kg
A15: 모래 | B15: 부순모래 | C15: M3
A16: Set Anchor | B16: M10XL150 | C16: ea
A17: Set Anchor | B17: M16XL150 | C17: ea
A18: L형 Anchor | B18: M19XL300 | C18: ea
A20: 굴삭기(무한궤도) | B20: 0.7M3 | C20: 대 | M20: 건설기계 가격표
A21: 지게차 | B21: 7.0TON | C21: hr
A23: 트리하우스 조합놀이대 (브릿지 포함) | B23: 10,930*13,860*H4,300 | C23: EA
A24: 마운딩 놀이A | B24: 7,595*2,140*H1,680 | C24: EA
A25: 마운딩 놀이B | B25: 7,150*3,930*H1,705 | C25: EA
A26: 로비니아 벤치 | B26: 3,680*3,315*H360 | C26: SET
A27: 모래쉼터 | B27: 3,385*5,345*H3,910 | C27: EA
A28: 이야기공간 | B28: 1,205*1,205*H390 | C28: EA
A29: 버그하우스 | B29: 885*700*H1,610 | C29: SET
A30: 원주목 벤치 | B30: D180*H300 | C30: SET
A31: 모험놀이대 | B31: 7,205*1,635*H2,405 | C31: EA
A32: 숲 칠판 | B32: 1,495*100*H1,065 | C32: EA
A33: 관찰 놀이 테이블 | B33: 3,485*855*H810 | C33: EA
A34: 실로폰 건너기 | B34: 1,480*2,950*H1,440 | C34: EA

Sheet 노임단가
A2: 노임단가
A4: 직종명 | B4: 단위 | C4: 2022 상반기 | D4: 적용단가 | E4: 비 고
A5: 콘크리트공 | B5: 인
A6: 보통인부 | B6: 인
A7: 형틀목공 | B7: 인
A8: 건축목공 | B8: 인
A9: 철골공 | B9: 인
A10: 석 공 | B10: 인
A11: 조경공 | B11: 인
A12: 특별인부 | B12: 인
A13: 건설기계운전사 | B13: 인
A14: 작업반장 | B14: 인
