Workbook
Name _.: #REF!
Name _.: #REF!
Name _.: #REF!
Name _.: #REF!
Name _0: [1]직재!#REF!
Name _0: [1]직재!#REF!
Name _0: [1]직재!#REF!
Name _0: [1]직재!#REF!
Name _1: [2]I一般比!#REF!
Name _1: [2]I一般比!#REF!
Name _1: [2]I一般比!#REF!
Name _1: [2]I一般比!#REF!
Name _12_: [3]K55수출!#REF!
Name _12_: [3]K55수출!#REF!
Name _12_: [3]K55수출!#REF!
Name _12_: [3]K55수출!#REF!
Name _15_: [4]임율!#REF!
Name _15_: [4]임율!#REF!
Name _15_: [4]임율!#REF!
Name _15_: [4]임율!#REF!
Name _15A: [5]가격조사서!$D$4:$D$11
Name _16A: [6]일위대가목차!#REF!
Name _16A: [6]일위대가목차!#REF!
Name _16A: [6]일위대가목차!#REF!
Name _16A: [6]일위대가목차!#REF!
Name _18_??1????: '[7]일위대가(계측기설치)'!#REF!
Name _18_??1????: '[7]일위대가(계측기설치)'!#REF!
Name _18_??1????: '[7]일위대가(계측기설치)'!#REF!
Name _18_??1????: '[7]일위대가(계측기설치)'!#REF!
Name _1차_94년: #N/A
Name _2: [8]J直材4!$F$5:$G$5
Name _21_??2????: '[7]일위대가(계측기설치)'!#REF!
Name _21_??2????: '[7]일위대가(계측기설치)'!#REF!
Name _21_??2????: '[7]일위대가(계측기설치)'!#REF!
Name _21_??2????: '[7]일위대가(계측기설치)'!#REF!
Name _24_??3????: '[7]일위대가(계측기설치)'!#REF!
Name _24_??3????: '[7]일위대가(계측기설치)'!#REF!
Name _24_??3????: '[7]일위대가(계측기설치)'!#REF!
Name _24_??3????: '[7]일위대가(계측기설치)'!#REF!
Name _27_??4????: '[7]일위대가(계측기설치)'!#REF!
Name _27_??4????: '[7]일위대가(계측기설치)'!#REF!
Name _27_??4????: '[7]일위대가(계측기설치)'!#REF!
Name _27_??4????: '[7]일위대가(계측기설치)'!#REF!
Name _2차결제일: #N/A
Name _3: #N/A
Name _3_: [9]I一般比!#REF!
Name _3_: [9]I一般比!#REF!
Name _3_: [9]I一般比!#REF!
Name _3_: [9]I一般比!#REF!
Name _30_??5????: '[7]일위대가(계측기설치)'!#REF!
Name _30_??5????: '[7]일위대가(계측기설치)'!#REF!
Name _30_??5????: '[7]일위대가(계측기설치)'!#REF!
Name _30_??5????: '[7]일위대가(계측기설치)'!#REF!
Name _33_??6????: '[7]일위대가(계측기설치)'!#REF!
Name _33_??6????: '[7]일위대가(계측기설치)'!#REF!
Name _33_??6????: '[7]일위대가(계측기설치)'!#REF!
Name _33_??6????: '[7]일위대가(계측기설치)'!#REF!
Name _4: #REF!
Name _4: #REF!
Name _4: #REF!

Sheet 총 산출내역
A1: 2023 대전패션컬렉션 행사운영 용역 공내역서
B3: 건 명 : 2023 대전패션컬렉션 운영 용역
B4: 구 분 | D4: 금 액(원) | E4: 구성비(%) | F4: 비 고
B5: 인 건 비(A) | D5: ='인건비(A)'!H4:H7 -> 0 | E5: =ROUNDUP((D5/$D$21*100),2) -> 0
B6: 책임연구원 | D6: ='인건비(A)'!G4 -> 0 | E6: =ROUNDUP((D6/$D$21*100),2) -> 0
B7: 연구원 | D7: ='인건비(A)'!G5 -> 0 | E7: =ROUNDUP((D7/$D$21*100),2) -> 0
B8: 연구보조원 | D8: ='인건비(A)'!G6 -> 0 | E8: =ROUNDUP((D8/$D$21*100),2) -> 0
B9: 보조원 | D9: ='인건비(A)'!G7 -> 0 | E9: =ROUNDUP((D9/$D$21*100),2) -> 0
B10: 경 비(B) | D10: =SUM(D11:D18) -> 1885000 | E10: =ROUNDUP((D10/$D$21*100),2) -> 100
B11: 시설구축비 | C11: 행사장소대관(대관비) | D11: ='경비(B,시설구축비)'!F6 -> 1885000 | E11: =ROUNDUP((D11/$D$21*100),2) -> 100 | F11: ※ 추후 변경될 수 있음(기재된 상태로 작성바랍니다)
C12: 행사장 조성 | D12: ='경비(B,시설구축비)'!F4-D11 -> 0 | E12: =ROUNDUP((D12/$D$21*100),2) -> 0
B13: 운영인력비 (외주인력비) | C13: 행사 인력 배치 | D13: ='경비(B,운영인력비(외주인력비))'!G4 -> 0 | E13: =ROUNDUP((D13/$D$21*100),2) -> 0
B14: 보험비 | C14: 행사보험료 | D14: ='경비(B,보험비)'!F6 -> 0 | E14: =ROUNDUP((D14/$D$21*100),2) -> 0
B15: 홍보비 | C15: 행사홍보비 | D15: ='경비(B,홍보비)'!F4 -> 0 | E15: =ROUNDUP((D15/$D$21*100),2) -> 0
B16: 기타 | C16: 행사 물품구입비 | D16: ='경비(B,기타)'!F6 -> 0 | E16: =ROUNDUP((D16/$D$21*100),2) -> 0
C17: 여비교통비 | D17: ='경비(B,기타)'!F7 -> 0 | E17: =ROUNDUP((D17/$D$21*100),2) -> 0
C18: 우편비 | D18: ='경비(B,기타)'!F8 -> 0 | E18: =ROUNDUP((D18/$D$21*100),2) -> 0
B19: 일 반 관 리 비(C) | E19: =ROUNDUP((D19/$D$21*100),2) -> 0 | F19: 인건비+경비 합계의 8%이하 (우측 전시 및 행사대행용역 원가계산 자료 참조)
B20: 이 윤(D) | E20: =ROUNDUP((D20/$D$21*100),3) -> 0 | F20: 인건비+경비+일반관리비 합계의 10% 이하 (우측 전시 및 행사대행용역 원가계산 자료 참조)
B21: 총 원 가(E=A+B+C+D) | D21: =+D5+D10+D19+D20 -> 1885000 | E21: =SUM(E5,E10,E19,E20) -> 100 | F21: 총 원가 100% 기준
B22: 부 가 가 치 세(F) | D22: =+D21*0.1 -> 188500 | E22: =ROUNDUP((D22/$D$21*100),1) -> 10 | F22: 총 원가×10%
B23: 총 용 역 비(E+F) | D23: =+D21+D22 -> 2073500
C25: 자동완성
C26: 자동완성

Sheet 인건비(A)
A1: 인 건 비 (A)
A3: 구분 | C3: 학술연구 월 임금 | D3: 인원(명) | E3: 기간(개월) | F3: 참여율 | G3: 산출액(원) | H3: 소계 | I3: 비 고
A4: 직접인건비 | B4: 책임연구원 | G4: =+C4*E4*F4*D4 -> 0 | H4: =SUM(G4:G5:G6:G7) -> 0 | I4: ※ 작성 시 첨부사항 참고바랍니다.
B5: 연구원 | G5: =+C5*D5*E5*F5 -> 0
B6: 연구보조원 | G6: =+C6*D6*E6*F6 -> 0
B7: 보조원 | G7: =+C7*D7*E7*F7 -> 0
B9: 자동완성
A12: <첨부사항>
A13: 등 급 | B13: 참여율 100%
A14: 책임연구원 | B14: =3245879*2 -> 6491758
A15: 연구원 | B15: =2488897*2 -> 4977794
A16: 연구보조원 | B16: =1663743*2 -> 3327486
A17: 보조원 | B17: 2495700

Sheet 경비(B,시설구축비)
A1: 경 비 (B,시설구축비)
A3: 항목 | C3: 산출내역 | F3: 금액(원) | G3: 비고
A4: 경비 | C4: 행사장소 대관비 및 행사장 조성비용 | F4: =SUM(F7:F11)+F6 -> 1885000
A5: 시설구축비 | B5: 내용 | D5: 수량(회) | E5: 단가(원) | F5: 산출금액(원)
B6: 행사장소대관비(대관비) | D6: 1 | E6: 1885000 | F6: =+E6*D6 -> 1885000 | G6: ※ 추후 변경될 수 있음(기재된 상태로 작성바랍니다)
B7: 행사장조성 | C7: 무대 | F7: =D7*E7 -> 0
C8: 조명 | F8: =D8*E8 -> 0
C9: 음악 | F9: =D9*E9 -> 0
C10: 음향 | F10: =D10*E10 -> 0
C11: 촬영 | F11: =D11*E11 -> 0
B13: 자동완성

Sheet 경비(B,운영인력비(외주인력비))
A1: 경 비 (B,운영인력비)
A3: 항목 | D3: 산출내역 | G3: 금액(원) | H3: 비고
A4: 경비 | D4: 행사 인력 배치 | G4: =SUM(G6:G11) -> 0
A5: 운영인력비 (외주인력비) | C5: 내용 | E5: 수량(명) | F5: 단가(원) | G5: 산출금액(원)
C6: 행사 인력 배치 (선발 운영) | D6: 프로모델 | G6: =E6*F6 -> 0
D7: 학생모델 | G7: =E7*F7 -> 0
D8: 운영 및 안전관리요원 | G8: =E8*F8 -> 0
D9: 진행보조요원 | G9: =E9*F9 -> 0
D10: 헤어, 메이크업 | G10: =E10*F10 -> 0
D11: 헬퍼 인원 | G11: =E11*F11 -> 0
B13: 자동완성

Sheet 경비(B,보험비)
A1: 경 비 (B,보험비)
A3: 항목 | C3: 산출내역 | F3: 금액(원) | G3: 비고
A4: 경비 | C4: 행사보험료 (안전사고 대비) | F4: =F6 -> 0
A5: 보험비 | C5: 내용 | D5: 수량(회) | E5: 단가(원) | F5: 산출금액(원)
C6: 행사보험료 | F6: =D6*E6 -> 0 | G6: ※ 첨부사항 참고 바랍니다
B8: 자동완성
D10: <첨부사항>

Sheet 경비(B,홍보비)
A1: 경 비 (B,홍보비)
A3: 항목 | C3: 산출내역 | F3: 금액(원) | G3: 비고
A4: 경비 | C4: 행사홍보비 | F4: =SUM(F6:F11) -> 0
A5: 홍보비 | B5: 내용 | D5: 수량(식) | E5: 단가 | F5: 산출금액(원)
B6: 행사홍보비 | C6: 온라인 웹 포스터 | F6: =D6*E6 -> 0
C7: 웹 배너 | F7: =D7*E7 -> 0
C8: 홍보 포스터 출력 | F8: =D8*E8 -> 0
C9: 현수막 | F9: =D9*E9 -> 0
C10: 배너 | F10: =D10*E10 -> 0
C11: 초청장 제작 | F11: =D11*E11 -> 0
B13: 자동완성

Sheet 경비(B,기타)
A1: 경 비 (B,기타)
A3: 항목 | C3: 산출내역 | F3: 금액(원) | G3: 비고
A4: 경비 | C4: 기타 행사관련 경비(행사물품, 여비교통비, 우편비) | F4: =SUM(F6:F8) -> 0
A5: 기타 | C5: 내용 | D5: 수량(개) | E5: 단가 | F5: 산출금액(원)
C6: 행사 물품 구입비 | F6: =D6*E6 -> 0
C7: 여비교통비 | F7: =D7*E7 -> 0
C8: 우편비 | F8: =D8*E8 -> 0
B10: 자동완성
